BEGIN:VCALENDAR
VERSION:2.0
PRODID:-//AlxYD - ECPv6.15.20//NONSGML v1.0//EN
CALSCALE:GREGORIAN
METHOD:PUBLISH
X-WR-CALNAME:AlxYD
X-ORIGINAL-URL:https://alxyd.org
X-WR-CALDESC:Events for AlxYD
REFRESH-INTERVAL;VALUE=DURATION:PT1H
X-Robots-Tag:noindex
X-PUBLISHED-TTL:PT1H
BEGIN:VTIMEZONE
TZID:America/New_York
BEGIN:DAYLIGHT
TZOFFSETFROM:-0500
TZOFFSETTO:-0400
TZNAME:EDT
DTSTART:20220313T070000
END:DAYLIGHT
BEGIN:STANDARD
TZOFFSETFROM:-0400
TZOFFSETTO:-0500
TZNAME:EST
DTSTART:20221106T060000
END:STANDARD
BEGIN:DAYLIGHT
TZOFFSETFROM:-0500
TZOFFSETTO:-0400
TZNAME:EDT
DTSTART:20230312T070000
END:DAYLIGHT
BEGIN:STANDARD
TZOFFSETFROM:-0400
TZOFFSETTO:-0500
TZNAME:EST
DTSTART:20231105T060000
END:STANDARD
BEGIN:DAYLIGHT
TZOFFSETFROM:-0500
TZOFFSETTO:-0400
TZNAME:EDT
DTSTART:20240310T070000
END:DAYLIGHT
BEGIN:STANDARD
TZOFFSETFROM:-0400
TZOFFSETTO:-0500
TZNAME:EST
DTSTART:20241103T060000
END:STANDARD
BEGIN:DAYLIGHT
TZOFFSETFROM:-0500
TZOFFSETTO:-0400
TZNAME:EDT
DTSTART:20250309T070000
END:DAYLIGHT
BEGIN:STANDARD
TZOFFSETFROM:-0400
TZOFFSETTO:-0500
TZNAME:EST
DTSTART:20251102T060000
END:STANDARD
BEGIN:DAYLIGHT
TZOFFSETFROM:-0500
TZOFFSETTO:-0400
TZNAME:EDT
DTSTART:20260308T070000
END:DAYLIGHT
BEGIN:STANDARD
TZOFFSETFROM:-0400
TZOFFSETTO:-0500
TZNAME:EST
DTSTART:20261101T060000
END:STANDARD
BEGIN:DAYLIGHT
TZOFFSETFROM:-0500
TZOFFSETTO:-0400
TZNAME:EDT
DTSTART:20270314T070000
END:DAYLIGHT
BEGIN:STANDARD
TZOFFSETFROM:-0400
TZOFFSETTO:-0500
TZNAME:EST
DTSTART:20271107T060000
END:STANDARD
END:VTIMEZONE
BEGIN:VEVENT
DTSTART;TZID=America/New_York:20260219T190000
DTEND;TZID=America/New_York:20260219T210000
DTSTAMP:20260423T111622
CREATED:20260205T021221Z
LAST-MODIFIED:20260205T021221Z
UID:707-1771527600-1771534800@alxyd.org
SUMMARY:February Trivia Night
DESCRIPTION:Join your fellow Young Dems at Lost Boy Cider\, Thursday the 19th from 7-9\, for this month’s trivia night! Whether its the excellent atmosphere or the even better company\, you’ll be sure to have a great time. We’ll be arriving early to reserve tables for folks\, so please be sure to RSVP below so we know how many people to expect!
URL:https://alxyd.org/event/february-trivia-night/
LOCATION:Lost Boy Cider\, 317 Hooffs Run Dr\, Alexandria\, VA\, 22314\, United States
ORGANIZER;CN="AlxYD":MAILTO:info@alexyoungdems.org
END:VEVENT
BEGIN:VEVENT
DTSTART;TZID=America/New_York:20260128T190000
DTEND;TZID=America/New_York:20260128T210000
DTSTAMP:20260423T111622
CREATED:20251224T221147Z
LAST-MODIFIED:20251224T221147Z
UID:674-1769626800-1769634000@alxyd.org
SUMMARY:AlxYD Elections Convention 2026
DESCRIPTION:We will be gathering on 1/28 at 7 pm to elect our next executive committee. Please stay tuned for information on location. Dinner will be provided
URL:https://alxyd.org/event/alxyd-elections-convention-2026/
LOCATION:VA
END:VEVENT
BEGIN:VEVENT
DTSTART;TZID=America/New_York:20251213T123000
DTEND;TZID=America/New_York:20251213T180000
DTSTAMP:20260423T111622
CREATED:20251120T014009Z
LAST-MODIFIED:20251212T022749Z
UID:668-1765629000-1765648800@alxyd.org
SUMMARY:Del Ray Candy Cane Bar Crawl
DESCRIPTION:Holiday themed bar crawl in Del Ray\, Alexandria! Festive cocktails\, music\, costume contests\, raffles\, swag bags and more to benefit ALIVE.\n\n\n\nGrab your most festive holiday gear and get ready for an afternoon of community cheer\, cocktails\, raffles and much more for a great cause! The 10th Annual Del Ray Candy Cane Bar Crawl takes place Saturday\, December 13th from 12:30-6pm. This year’s non-profit beneficiary is ALIVE!\, the City of Alexandria’s largest non-profit preventing food and housing insecurity\, serving 20\,000 individuals each month by providing food\, transitional shelter\, financial help\, eviction prevention\, and furniture & housewares. \n\nYou can RSVP to come to the event with AlxYD here\, but be sure to purchase your tickets for the event through the eventbrite page
URL:https://alxyd.org/event/del-ray-candy-cane-bar-crawl/
LOCATION:VA
END:VEVENT
BEGIN:VEVENT
DTSTART;TZID=America/New_York:20251120T190000
DTEND;TZID=America/New_York:20251120T210000
DTSTAMP:20260423T111622
CREATED:20251120T013613Z
LAST-MODIFIED:20251120T013613Z
UID:664-1763665200-1763672400@alxyd.org
SUMMARY:November Trivia Night
DESCRIPTION:Join your fellow Young Dems at Lost Boy Cider\, Thursday the 20th from 7-9\, for this month’s trivia night! Whether its the excellent atmosphere or the even better company\, you’ll be sure to have a great time. We’ll be arriving early to reserve tables for folks\, so please be sure to RSVP below so we know how many people to expect!
URL:https://alxyd.org/event/november-trivia-night/
LOCATION:Lost Boy Cider\, 317 Hooffs Run Dr\, Alexandria\, VA\, 22314\, United States
ORGANIZER;CN="AlxYD":MAILTO:info@alexyoungdems.org
END:VEVENT
BEGIN:VEVENT
DTSTART;TZID=America/New_York:20251101T200000
DTEND;TZID=America/New_York:20251101T220000
DTSTAMP:20260423T111622
CREATED:20251014T205553Z
LAST-MODIFIED:20251014T205553Z
UID:643-1762027200-1762034400@alxyd.org
SUMMARY:AlxYD Halloween Party
DESCRIPTION:Beat your pre-election fears with a combo of good old fashioned campaign work and a night of festivities. Participate in any of the campaign activities mentioned in our monthly newsletter and get your ticket to our Halloween Party!
URL:https://alxyd.org/event/alxyd-halloween-party/
LOCATION:1200 First St\, Alexandria VA 22314\, 1200 First St\, Alexandria\, VA\, 22314
ORGANIZER;CN="AlxYD":MAILTO:info@alexyoungdems.org
END:VEVENT
BEGIN:VEVENT
DTSTART;TZID=America/New_York:20251023T190000
DTEND;TZID=America/New_York:20251023T210000
DTSTAMP:20260423T111622
CREATED:20251014T032533Z
LAST-MODIFIED:20251014T032533Z
UID:635-1761246000-1761253200@alxyd.org
SUMMARY:October Trivia Night
DESCRIPTION:Join your fellow Young Dems at Lost Boy Cider\, Thursday the 23rd from 7-9\, for this month’s trivia night! Whether its the excellent atmosphere or the even better company\, you’ll be sure to have a great time. We’ll be arriving early to reserve tables for folks\, so please be sure to RSVP below so we know how many people to expect!
URL:https://alxyd.org/event/october-trivia-night/
LOCATION:Lost Boy Cider\, 317 Hooffs Run Dr\, Alexandria\, VA\, 22314\, United States
ORGANIZER;CN="AlxYD":MAILTO:info@alexyoungdems.org
END:VEVENT
BEGIN:VEVENT
DTSTART;TZID=America/New_York:20251018T090000
DTEND;TZID=America/New_York:20251018T103000
DTSTAMP:20260423T111622
CREATED:20251014T205624Z
LAST-MODIFIED:20251014T205624Z
UID:639-1760778000-1760783400@alxyd.org
SUMMARY:No Kings Sign Making Party
DESCRIPTION:Come join us for a fun morning of prepping protest signs! We’ll be providing the craft materials\, so all you need to do is bring your energy and creativity!
URL:https://alxyd.org/event/no-kings-sign-making-party/
LOCATION:625 East Monroe Ave\, 625 E Monroe Ave\, Alexandria\, VA\, 22301\, United States
ORGANIZER;CN="AlxYD":MAILTO:info@alexyoungdems.org
END:VEVENT
BEGIN:VEVENT
DTSTART;TZID=America/New_York:20250907T080000
DTEND;TZID=America/New_York:20250918T170000
DTSTAMP:20260423T111622
CREATED:20250907T201959Z
LAST-MODIFIED:20250907T201959Z
UID:628-1757232000-1758214800@alxyd.org
SUMMARY:September Trivia Night
DESCRIPTION:Join your fellow Young Dems at Lost Boy Cider\, Thursday the 18th from 7-9\, for this month’s trivia night! Whether its the excellent atmosphere or the even better company\, you’ll be sure to have a great time. We’ll be arriving early to reserve tables for folks\, so please be sure to RSVP below so we know how many people to expect!
URL:https://alxyd.org/event/september-trivia-night/
LOCATION:Lost Boy Cider\, 317 Hooffs Run Dr\, Alexandria\, VA\, 22314\, United States
ORGANIZER;CN="AlxYD":MAILTO:info@alexyoungdems.org
END:VEVENT
BEGIN:VEVENT
DTSTART;TZID=America/New_York:20250814T190000
DTEND;TZID=America/New_York:20250814T210000
DTSTAMP:20260423T111622
CREATED:20250806T194227Z
LAST-MODIFIED:20250806T194227Z
UID:617-1755198000-1755205200@alxyd.org
SUMMARY:AlxYD August Trivia Night
DESCRIPTION:Join your fellow Young Dems at Lost Boy Cider\, Thursday the 14th from 7-9\, for this month’s trivia night! Whether its the excellent atmosphere or the even better company\, you’ll be sure to have a great time. We’ll be arriving early to reserve tables for folks\, so please be sure to RSVP below so we know how many people to expect! \n  \n 
URL:https://alxyd.org/event/alxyd-august-trivia-night/
LOCATION:Lost Boy Cider\, 317 Hooffs Run Dr\, Alexandria\, VA\, 22314\, United States
ORGANIZER;CN="AlxYD":MAILTO:info@alexyoungdems.org
END:VEVENT
BEGIN:VEVENT
DTSTART;TZID=America/New_York:20250802T190000
DTEND;TZID=America/New_York:20250802T210000
DTSTAMP:20260423T111622
CREATED:20250721T223620Z
LAST-MODIFIED:20250728T220210Z
UID:572-1754161200-1754168400@alxyd.org
SUMMARY:Alexandria Young Democrats Summer Social
DESCRIPTION:As we stand on the cusp of campaign season\, the Committee wanted to provide an opportunity for us all to come together as a community and get to know each other more! We are also excited to announce that Virginia Young Democrats’ President Malena Llanos will be in attendance to help newer members learn more about our place in the broader state party! Food and drink will be provided. \nEvent Details \nGetting there: \nThere is free street parking on weekends throughout the neighborhood. You might have to park a few blocks from the apartment\, but you should be able to easily find a spot. \nThe apartment is conveniently located right next to Braddock Road metro stop \nOnce Arrived: \nPlease make sure you are using the main entrance on First St \nYou can let the concierge know that you are here for the Summer Social that is taking place in the party room. \nYou will take the elevators up to the 16th floor (Top floor) and you will immediately see the room right when you get off the elevators.
URL:https://alxyd.org/event/alexandria-young-democrats-summer-social/
LOCATION:1200 First St\, Alexandria VA 22314\, 1200 First St\, Alexandria\, VA\, 22314
END:VEVENT
BEGIN:VEVENT
DTSTART;TZID=America/New_York:20250724T190000
DTEND;TZID=America/New_York:20250724T210000
DTSTAMP:20260423T111622
CREATED:20250721T223234Z
LAST-MODIFIED:20250724T212835Z
UID:568-1753383600-1753390800@alxyd.org
SUMMARY:July Trivia Night @ Lost Boy Cider
DESCRIPTION:Join AlxYD for this month’s trivia night! We’ll be heading down to Lost Boy Cider for an evening of trivial competition and camaraderie. We hope to see you there\, but make sure to let us know you are coming by RSVPing below so that we have a headcount!
URL:https://alxyd.org/event/july-trivia-night-lost-boy-cider/
LOCATION:Lost Boy Cider\, 317 Hooffs Run Dr\, Alexandria\, VA\, 22314\, United States
END:VEVENT
BEGIN:VEVENT
DTSTART;TZID=America/New_York:20250313T183000
DTEND;TZID=America/New_York:20250313T213000
DTSTAMP:20260423T111622
CREATED:20250311T140149Z
LAST-MODIFIED:20250311T143342Z
UID:538-1741890600-1741901400@alxyd.org
SUMMARY:March 2025 Trivia Night @ Lost Boy Cider
DESCRIPTION:Join AlxYD again for trivia night! We’ll be heading down to Lost Boy Cider for an evening of trivial competition and camaraderie. We hope to see you there\, but make sure to let us know you are coming by RSVPing below so that we have a headcount! Please try to arrive close to 6:30 so we can secure a table.
URL:https://alxyd.org/event/march-2025-trivia-night-lost-boy-cider/
LOCATION:VA
END:VEVENT
BEGIN:VEVENT
DTSTART;TZID=America/New_York:20250227T190000
DTEND;TZID=America/New_York:20250227T210000
DTSTAMP:20260423T111622
CREATED:20250225T043838Z
LAST-MODIFIED:20250225T043838Z
UID:528-1740682800-1740690000@alxyd.org
SUMMARY:February 2025 Trivia Night @ Lost Boy Cider
DESCRIPTION:After a big win last month\, join AlxYD again for trivia night! We’ll be heading down to Lost Boy Cider for an evening of trivial competition and camaraderie. We hope to see you there\, but make sure to let us know you are coming by RSVPing below so that we have a headcount!
URL:https://alxyd.org/event/february-2025-trivia-night-lost-boy-cider/
LOCATION:Lost Boy Cider\, 317 Hooffs Run Dr\, Alexandria\, VA\, 22314\, United States
ORGANIZER;CN="AlxYD":MAILTO:info@alexyoungdems.org
END:VEVENT
BEGIN:VEVENT
DTSTART;TZID=America/New_York:20250130T190000
DTEND;TZID=America/New_York:20250130T210000
DTSTAMP:20260423T111622
CREATED:20250118T173911Z
LAST-MODIFIED:20250118T173911Z
UID:503-1738263600-1738270800@alxyd.org
SUMMARY:January 2025 Trivia Night at Lost Boy Cider
DESCRIPTION:Come join AlxYD at our first trivia night of 2025. We’ll be heading down to Lost Boy Cider for an evening of trivial competition and camaraderie. We hope to see you there\, but make sure to let us know you are coming by RSVPing below so that we have a headcount!
URL:https://alxyd.org/event/january-2025-trivia-night-at-lost-boy-cider/
LOCATION:Lost Boy Cider\, 317 Hooffs Run Dr\, Alexandria\, VA\, 22314\, United States
ORGANIZER;CN="AlxYD":MAILTO:info@alexyoungdems.org
END:VEVENT
BEGIN:VEVENT
DTSTART;TZID=America/New_York:20250125T143000
DTEND;TZID=America/New_York:20250125T163000
DTSTAMP:20260423T111622
CREATED:20250118T175530Z
LAST-MODIFIED:20250118T175530Z
UID:500-1737815400-1737822600@alxyd.org
SUMMARY:AlxYD Convention 2025
DESCRIPTION:We need to make sure we make quorum at the AlxYD Convention on January 25th—but more importantly we need to make sure we will have enough food for those attending! Please let us know if you are planning on coming to convention by RSVPing below. Be sure to contact us by emailing info@alxyd.org if you have any dietary restrictions we should be aware of. We look forward to seeing you there! If you cannot make it to convention in person\, please request an absentee ballot at the link here.
URL:https://alxyd.org/event/alxyd-convention-2025/
LOCATION:ADC Office\, 610 N Washington St\, Alexandria\, VA\, 22314\, United States
ORGANIZER;CN="AlxYD":MAILTO:info@alexyoungdems.org
END:VEVENT
BEGIN:VEVENT
DTSTART;TZID=America/New_York:20240923T183000
DTEND;TZID=America/New_York:20240923T210000
DTSTAMP:20260423T111622
CREATED:20240919T020327Z
LAST-MODIFIED:20240919T020620Z
UID:484-1727116200-1727125200@alxyd.org
SUMMARY:September Trivia Night @ Del Ray Pizzeria
DESCRIPTION:Join your fellow Young Dems for a round of trivia at the Del Ray Pizzeria and Drafthouse\, 2218 Mt Vernon Ave\, Monday\, September 23rd! Trivia kicks off at 6:45 pm\, so we will be gathering around 6:30pm to get settled in. Come on out and grab a drink and/or meal\, test your trivia wits with some friends\, and take a moment to regroup before getting back on the campaign trail!
URL:https://alxyd.org/event/september-trivia-night-del-ray-pizzeria/
LOCATION:VA
END:VEVENT
BEGIN:VEVENT
DTSTART;TZID=America/New_York:20240729T183000
DTEND;TZID=America/New_York:20240729T213000
DTSTAMP:20260423T111622
CREATED:20240723T020934Z
LAST-MODIFIED:20240723T130449Z
UID:461-1722277800-1722288600@alxyd.org
SUMMARY:Trivia Night @ Del Ray Pizzeria
DESCRIPTION:Join your fellow Young Dems for a rousing night of trivia at the Del Ray Pizzeria and Drafthouse\, 2218 Mt Vernon Ave\, Monday\, July 29th! Trivia kicks off at 6:45 pm\, so we will be gathering around 6:30pm to get settled in. Come on out and grab a drink and/or meal\, test your trivia wits with some friends\, and discuss how to get more involved with Young Dems!
URL:https://alxyd.org/event/trivia-night-del-ray-pizzeria/
LOCATION:VA
END:VEVENT
BEGIN:VEVENT
DTSTART;TZID=America/New_York:20240221T183000
DTEND;TZID=America/New_York:20240221T210000
DTSTAMP:20260423T111622
CREATED:20240214T181218Z
LAST-MODIFIED:20240214T181218Z
UID:445-1708540200-1708549200@alxyd.org
SUMMARY:Trivia Night @ The Light Horse
DESCRIPTION:Join your fellow Young Dems for TRIVIA NIGHT at the LIGHT HORSE\, 715 King street\, 22314\, Wednesday Feb. 21st! Trivia kicks off at 7pm in the upstairs room\, so we will be gathering around 6:45pm to get seats early. Come on out and grab a drink and/or meal and test your trivia wits with some friends!
URL:https://alxyd.org/event/trivia-night-the-light-horse/
LOCATION:VA
END:VEVENT
BEGIN:VEVENT
DTSTART;TZID=America/New_York:20240111T190000
DTEND;TZID=America/New_York:20240111T200000
DTSTAMP:20260423T111622
CREATED:20240104T214256Z
LAST-MODIFIED:20240104T214314Z
UID:414-1704999600-1705003200@alxyd.org
SUMMARY:2024 AlxYD Elections Convention
DESCRIPTION:AlxYD’s 2024 elections are fast approaching! Pursuant to the Constitution and ByLaws\, the Executive Committee has called for a convention of AlxYD members for Thursday\, January 11th at 7:00pm at the ADC office to hold our annual elections. The ADC office is located at 618 N Washington St. \nThe following individuals have filed to run for an office on the Executive Committee prior to the 5pm deadline on Tuesday\, Jan. 2nd: \n\nPresident—Daniel Ernst\nVice President—Alex Perez-Reyes\nSecretary—Adam Sickle\nTreasurer—Carly Choppin\n\nMembership Director—Alexandra Miller\n\nThe candidate statements from those who have filed to run can be found at the link here. \nThe report of the Convention Rules Committee\, appointed to draft rules for the convention\, can be found at the link here. The report of the rules allows for any Members in Good Standing who will be unable to attend the convention to request an absentee ballot no later than 7pm on the night of the convention. To request an absentee ballot\, please go to the link here and fill out the form.  \nWe plan to offer food and beverages to convention attendees\, so please be sure to RSVP below so we know how many attendees to plan for! If you have any dietary restrictions\, please let us know by emailing info@alxyd.org.
URL:https://alxyd.org/event/2024-alxyd-elections-convention/
LOCATION:ADC Office\, 610 N Washington St\, Alexandria\, VA\, 22314\, United States
END:VEVENT
BEGIN:VEVENT
DTSTART;TZID=America/New_York:20231219T200000
DTEND;TZID=America/New_York:20231219T220000
DTSTAMP:20260423T111622
CREATED:20231217T014212Z
LAST-MODIFIED:20231217T014212Z
UID:398-1703016000-1703023200@alxyd.org
SUMMARY:AlxYD Trivia Night @ Murphy's Pub
DESCRIPTION:Join your fellow young Dems at Murphy’s Pub in Old Town this upcoming Tuesday! Trivia night starts around 8:15pm\, so we will be swinging by to grab a table for dinner around 7pm. feel free to join us for dinner or come by around 8 in time for trivia. \nPlease be sure to RSVP so we know how many folks we will have to determine if we need to split into multiple teams.
URL:https://alxyd.org/event/alxyd-trivia-night-murphys-pub/
LOCATION:Murphy’s Pub\, 713 King St\, Alexandria\, VA\, 22314\, United States
ATTACH;FMTTYPE=image/webp:https://alxyd.org/wp-content/uploads/2023/12/Murphy_s_Irish_Pub6_1800x1205_300_RGB0_3ed24205-5056-a36a-062d0acea3a30e73.webp
END:VEVENT
BEGIN:VEVENT
DTSTART;TZID=America/New_York:20231120T190000
DTEND;TZID=America/New_York:20231120T193000
DTSTAMP:20260423T111622
CREATED:20231107T035631Z
LAST-MODIFIED:20231107T035631Z
UID:392-1700506800-1700508600@alxyd.org
SUMMARY:November 2023 General Meeting
DESCRIPTION:Join your fellow Alexandria Young Democrats for a virtual meeting! With everything going on with the election\, we have not had a chance to meet new folks and catch up in a bit\, so this will be our chance to gather with our fellow Young Dems and discuss our wins over the last few months and to touch base with folks about the next few months. We hope you will join us if you can! The meeting link will get sent out automatically to folks who RSVP.
URL:https://alxyd.org/event/november-2023-general-meeting/
LOCATION:VA
END:VEVENT
BEGIN:VEVENT
DTSTART;TZID=America/New_York:20230927T190000
DTEND;TZID=America/New_York:20230927T210000
DTSTAMP:20260423T111622
CREATED:20230911T203823Z
LAST-MODIFIED:20230911T212528Z
UID:357-1695841200-1695848400@alxyd.org
SUMMARY:NoVA Young Democrats Happy Hour
DESCRIPTION:Join us for a NoVA Young Dems Happy Hour hosted by Alexandria\, Arlington\, and Fairfax Young Dems on Wednesday\, September 27th at 7pm over at Hops N Shine! \n\nThis is a great opportunity to meet fellow Young Dems\, community leaders\, local candidates\, and elected officials in your area. All YDs from neighboring chapters are invited\, and of course all are welcome! \nHops N Shine is located at 3410 Mt Vernon Ave\, Alexandria\, VA. It’s about a 20-minute walk from the Potomac Yard Metro Station but also close to several bus lines. You can find more detailed directions here: https://hopsnshine.com/directions/. \nThere is limited onsite parking\, so we encourage you to take public transit\, carpool\, or rideshare. Please either RSVP below or via Facebook at the link provided here.
URL:https://alxyd.org/event/nova-young-democrats-happy-hour/
LOCATION:Hops N Shine\, 3410 Mt Vernon Ave\, Alexandria\, VA\, 22305\, United States
ORGANIZER;CN="AlxYD":MAILTO:info@alexyoungdems.org
END:VEVENT
BEGIN:VEVENT
DTSTART;TZID=America/New_York:20230905T180000
DTEND;TZID=America/New_York:20230905T190000
DTSTAMP:20260423T111622
CREATED:20230708T213450Z
LAST-MODIFIED:20230708T224728Z
UID:252-1693936800-1693940400@alxyd.org
SUMMARY:AlxYD Sept. Meet-up @ Ramparts Tavern & Grill
DESCRIPTION:Join your fellow young Democrats before the September Alexandria Democratic Committee meeting! The ADC meeting will start at 7:30pm (RSVP here to that event!) so we will get together just over an hour before in order to make sure we have ample time to get over to the meeting.
URL:https://alxyd.org/event/alxyd-sept-meet-up-ramparts-tavern-grill/
LOCATION:Ramparts Tavern & Grill\, 1700 Fern Street\, Alexandria\, Virginia\, 22302\, United States
ORGANIZER;CN="AlxYD":MAILTO:info@alexyoungdems.org
END:VEVENT
BEGIN:VEVENT
DTSTART;TZID=America/New_York:20230823T193000
DTEND;TZID=America/New_York:20230823T230000
DTSTAMP:20260423T111622
CREATED:20230822T012426Z
LAST-MODIFIED:20230822T021951Z
UID:322-1692819000-1692831600@alxyd.org
SUMMARY:August Debate Night Watch Party
DESCRIPTION:Misery loves company so join your fellow Young Democrats for a watch party Wednesday\, August 23rd! We will tune in to the Republican Primary Debate and see what chaos comes to the stage. There may even be pizza involved… We hope to see you there! Please RSVP below to help us get a headcount. \nIf you have any questions about getting into the venue\, please ping us on Slack or text Daniel (978-421-6501) or Jessica (850-381-3083‬).
URL:https://alxyd.org/event/august-debate-night-watch-party/
LOCATION:The Foundry Apartments\, 2470 Mandeville Ln\, Alexandria\, VA\, 22314\, United States
END:VEVENT
BEGIN:VEVENT
DTSTART;TZID=America/New_York:20230720T180000
DTEND;TZID=America/New_York:20230720T200000
DTSTAMP:20260423T111622
CREATED:20230708T225248Z
LAST-MODIFIED:20230708T232734Z
UID:277-1689876000-1689883200@alxyd.org
SUMMARY:ADC Happy Hour
DESCRIPTION:The Alexandria Democratic Committee is hosting a happy hour later this month! Join us at The Front Porch @ Evening Start to mingle with your Alexandrian neighbors and meet friends old and new. \n  \nRSVP to the happy hour at the ADC link here!
URL:https://alxyd.org/event/adc-happy-hour/
LOCATION:The Front Porch @ Evening Star Cafe\, 2000 Mt Vernon Ave\, Alexandria\, VA\, 22301\, United States
END:VEVENT
END:VCALENDAR